BEGIN:VCALENDAR
PRODID:-//http://statistik.d-u-v.org//PHP ultracalendar//EN
VERSION:2.0
METHOD:PUBLISH
BEGIN:VEVENT
DTSTAMP:20260422T221400
CREATED:20071022T000000
UID:1776896040.0.70351900-2370@statistik.d-u-v.org
SUMMARY:IAU 100km WC Torhout (23. Nacht van Vlaanderen)
DESCRIPTION: IAU 100km WC Torhout (23. Nacht van Vlaanderen)\n
  \n
  
DTSTART:20020621T000000
DTEND:20020622T235900
LOCATION:Torhout\, BEL
URL:http://www.nvv.be/
CATEGORIES:Ultramarathon
CONTACT:
CLASS:PUBLIC
PRIORITY:5
TRANSP:OPAQUE
END:VEVENT
END:VCALENDAR
