BEGIN:VCALENDAR
PRODID:-//http://statistik.d-u-v.org//PHP ultracalendar//EN
VERSION:2.0
METHOD:PUBLISH
BEGIN:VEVENT
DTSTAMP:20260419T192333
CREATED:20140806T155400
UID:1776626613.0.78070100-23501@statistik.d-u-v.org
SUMMARY:Turkey & Taturs 50 km Trail Race
DESCRIPTION: Turkey & Taturs 50 km Trail Race\n
  Brian Hoover RD\n
  brian[at]tatur.org
DTSTART:20060917T000000
DTEND:00000000T235900
LOCATION:Tulsa, OK\, USA
URL:http://www.tatur.org/TurkeyAndTATURs/2006/50K.html
CATEGORIES:Ultramarathon
CONTACT:Brian Hoover RD
CLASS:PUBLIC
PRIORITY:5
TRANSP:OPAQUE
END:VEVENT
END:VCALENDAR
