BEGIN:VCALENDAR
PRODID:-//http://statistik.d-u-v.org//PHP ultracalendar//EN
VERSION:2.0
METHOD:PUBLISH
BEGIN:VEVENT
DTSTAMP:20260423T041051
CREATED:20140805T163206
UID:1776917451.0.42304000-23439@statistik.d-u-v.org
SUMMARY:You Yangs 100 Mile
DESCRIPTION: You Yangs 100 Mile\n
  Race Director Brett Saxon\n
  brsaxon[at]bigpond.net.au
DTSTART:20140719T000000
DTEND:20140720T235900
LOCATION:Little River, VIC\, AUS
URL:http://www.aura.asn.au/YouYangs5050.html
CATEGORIES:Ultramarathon
CONTACT:Race Director Brett Saxon
CLASS:PUBLIC
PRIORITY:5
TRANSP:OPAQUE
END:VEVENT
END:VCALENDAR
