BEGIN:VCALENDAR
PRODID:-//http://statistik.d-u-v.org//PHP ultracalendar//EN
VERSION:2.0
METHOD:PUBLISH
BEGIN:VEVENT
DTSTAMP:20260419T164310
CREATED:20140803T173415
UID:1776616990.0.66740600-23397@statistik.d-u-v.org
SUMMARY:Yankee Springs 50 km Winter Challenge
DESCRIPTION: Yankee Springs 50 km Winter Challenge\n
  \n
  kim[at]switchbackendurance.com; phil[at]switchbackendurance.com
DTSTART:20150103T000000
DTEND:00000000T235900
LOCATION:Middleville, MI\, USA
URL:http://switchbackendurance.com/yankee-springs-winter-challenge/
CATEGORIES:Ultramarathon
CONTACT:
CLASS:PUBLIC
PRIORITY:5
TRANSP:OPAQUE
END:VEVENT
END:VCALENDAR
