BEGIN:VCALENDAR
PRODID:-//http://statistik.d-u-v.org//PHP ultracalendar//EN
VERSION:2.0
METHOD:PUBLISH
BEGIN:VEVENT
DTSTAMP:20260425T170440
CREATED:20140723T173940
UID:1777136680.0.47930600-23266@statistik.d-u-v.org
SUMMARY:100 km Ultra Maranic Osaka
DESCRIPTION: 100 km Ultra Maranic Osaka\n
  \n
  
DTSTART:20140427T000000
DTEND:00000000T235900
LOCATION:Osaka\, JPN
URL:http://osakaultra.main.jp/index.html
CATEGORIES:Ultramarathon
CONTACT:
CLASS:PUBLIC
PRIORITY:5
TRANSP:OPAQUE
END:VEVENT
END:VCALENDAR
