BEGIN:VCALENDAR
PRODID:-//http://statistik.d-u-v.org//PHP ultracalendar//EN
VERSION:2.0
METHOD:PUBLISH
BEGIN:VEVENT
DTSTAMP:20260423T085500
CREATED:20140715T190130
UID:1776934500.0.21218300-23131@statistik.d-u-v.org
SUMMARY:Endurance Challenge - California Trail 50 km
DESCRIPTION: Endurance Challenge - California Trail 50 km\n
  \n
  endurancechallenge[at]hawkeyeww.com
DTSTART:20141206T070000
DTEND:00000000T235900
LOCATION:San Francisco, CA\, USA
URL:http://www.thenorthface.com/en_US/endurance-challenge/san-francisco-championship/?stop_mobi=yes
CATEGORIES:Ultramarathon
CONTACT:
CLASS:PUBLIC
PRIORITY:5
TRANSP:OPAQUE
END:VEVENT
END:VCALENDAR
