BEGIN:VCALENDAR
PRODID:-//http://statistik.d-u-v.org//PHP ultracalendar//EN
VERSION:2.0
METHOD:PUBLISH
BEGIN:VEVENT
DTSTAMP:20260423T053939
CREATED:20140715T190130
UID:1776922779.0.69660200-23069@statistik.d-u-v.org
SUMMARY:Lean Horse Ultra-Marathon 50 Mile
DESCRIPTION: Lean Horse Ultra-Marathon 50 Mile\n
  Race Director Royce Wuertzer\n
  track[at]rushmore.com
DTSTART:20140823T060000
DTEND:20140824T235900
LOCATION:Hot Springs, SD\, USA
URL:http://www.leanhorse100.com/
CATEGORIES:Ultramarathon
CONTACT:Race Director Royce Wuertzer
CLASS:PUBLIC
PRIORITY:5
TRANSP:OPAQUE
END:VEVENT
END:VCALENDAR
