BEGIN:VCALENDAR
PRODID:-//http://statistik.d-u-v.org//PHP ultracalendar//EN
VERSION:2.0
METHOD:PUBLISH
BEGIN:VEVENT
DTSTAMP:20260422T211844
CREATED:20140703T183949
UID:1776892724.0.71096500-22959@statistik.d-u-v.org
SUMMARY:Lange Laufnacht von Ulm 80 km
DESCRIPTION: Lange Laufnacht von Ulm 80 km\n
  \n
  info[at]ulmer-laufnacht.de
DTSTART:20140620T230000
DTEND:20140621T235900
LOCATION:Blaustein\, GER
URL:http://www.ulmer-laufnacht.de
CATEGORIES:Ultramarathon
CONTACT:
CLASS:PUBLIC
PRIORITY:5
TRANSP:OPAQUE
END:VEVENT
END:VCALENDAR
