BEGIN:VCALENDAR
PRODID:-//http://statistik.d-u-v.org//PHP ultracalendar//EN
VERSION:2.0
METHOD:PUBLISH
BEGIN:VEVENT
DTSTAMP:20260423T020216
CREATED:20140623T181210
UID:1776909736.0.51896100-22897@statistik.d-u-v.org
SUMMARY:mozart 55 km
DESCRIPTION: mozart 55 km\n
  Verein mozart 100\n
  run[at]mozart100.com
DTSTART:20150620T050000
DTEND:00000000T235900
LOCATION:Salzburg\, AUT
URL:http://mozart100.com/
CATEGORIES:Ultramarathon
CONTACT:Verein mozart 100
CLASS:PUBLIC
PRIORITY:5
TRANSP:OPAQUE
END:VEVENT
END:VCALENDAR
