BEGIN:VCALENDAR
PRODID:-//http://statistik.d-u-v.org//PHP ultracalendar//EN
VERSION:2.0
METHOD:PUBLISH
BEGIN:VEVENT
DTSTAMP:20260419T164318
CREATED:20140618T155859
UID:1776616998.0.00020600-22852@statistik.d-u-v.org
SUMMARY:Limanowski Ekstremalny Maraton Pieszy KIERAT
DESCRIPTION: Limanowski Ekstremalny Maraton Pieszy KIERAT\n
  Andrzej Pilawski\n
  kierat2004[at]wp.pl
DTSTART:20040521T000000
DTEND:20040523T235900
LOCATION:Limanowa\, POL
URL:http://www.kierat2004.webpark.pl
CATEGORIES:Ultramarathon
CONTACT:Andrzej Pilawski
CLASS:PUBLIC
PRIORITY:5
TRANSP:OPAQUE
END:VEVENT
END:VCALENDAR
