BEGIN:VCALENDAR
PRODID:-//http://statistik.d-u-v.org//PHP ultracalendar//EN
VERSION:2.0
METHOD:PUBLISH
BEGIN:VEVENT
DTSTAMP:20260419T201548
CREATED:20140614T105054
UID:1776629748.0.62887100-22823@statistik.d-u-v.org
SUMMARY:Le Balcon de Belledonne
DESCRIPTION: Le Balcon de Belledonne\n
  \n
  
DTSTART:19920412T000000
DTEND:00000000T235900
LOCATION:Allevard\, FRA
URL:http://www.course-belledonne.com/
CATEGORIES:Ultramarathon
CONTACT:
CLASS:PUBLIC
PRIORITY:5
TRANSP:OPAQUE
END:VEVENT
END:VCALENDAR
