BEGIN:VCALENDAR
PRODID:-//http://statistik.d-u-v.org//PHP ultracalendar//EN
VERSION:2.0
METHOD:PUBLISH
BEGIN:VEVENT
DTSTAMP:20260423T065153
CREATED:20140610T190308
UID:1776927113.0.89826000-22782@statistik.d-u-v.org
SUMMARY:Burlington Runners 50 Miles
DESCRIPTION: Burlington Runners 50 Miles\n
  \n
  
DTSTART:19860816T000000
DTEND:00000000T235900
LOCATION:Burlington, ON\, CAN
URL:
CATEGORIES:Ultramarathon
CONTACT:
CLASS:PUBLIC
PRIORITY:5
TRANSP:OPAQUE
END:VEVENT
END:VCALENDAR
