BEGIN:VCALENDAR
PRODID:-//http://statistik.d-u-v.org//PHP ultracalendar//EN
VERSION:2.0
METHOD:PUBLISH
BEGIN:VEVENT
DTSTAMP:20260420T015059
CREATED:20140520T182526
UID:1776649859.0.43951600-22649@statistik.d-u-v.org
SUMMARY:Big Butt 50 km
DESCRIPTION: Big Butt 50 km\n
  \n
  clsinclair[at]comporium.net
DTSTART:19950715T000000
DTEND:00000000T235900
LOCATION:Lancaster, SC\, USA
URL:http://www.claudesinclair.com/
CATEGORIES:Ultramarathon
CONTACT:
CLASS:PUBLIC
PRIORITY:5
TRANSP:OPAQUE
END:VEVENT
END:VCALENDAR
