BEGIN:VCALENDAR
PRODID:-//http://statistik.d-u-v.org//PHP ultracalendar//EN
VERSION:2.0
METHOD:PUBLISH
BEGIN:VEVENT
DTSTAMP:20260424T092613
CREATED:20140908T014635
UID:1777022773.0.07788900-22281@statistik.d-u-v.org
SUMMARY:Wien - Rundumadum 124 Km
DESCRIPTION: Wien - Rundumadum 124 Km\n
  Markus Michelitsch\n
  office[at]wien-rundumadum.at
DTSTART:20141101T070000
DTEND:20141102T235900
LOCATION:Wien\, AUT
URL:http://www.wien-rundumadum.at/
CATEGORIES:Ultramarathon
CONTACT:Markus Michelitsch
CLASS:PUBLIC
PRIORITY:5
TRANSP:OPAQUE
END:VEVENT
END:VCALENDAR
