BEGIN:VCALENDAR
PRODID:-//http://statistik.d-u-v.org//PHP ultracalendar//EN
VERSION:2.0
METHOD:PUBLISH
BEGIN:VEVENT
DTSTAMP:20260423T093830
CREATED:20140411T175933
UID:1776937110.0.49286700-22250@statistik.d-u-v.org
SUMMARY:Rockin-K Trail 50 Mile
DESCRIPTION: Rockin-K Trail 50 Mile\n
  \n
  
DTSTART:19990403T000000
DTEND:00000000T235900
LOCATION:Marquette, KS\, USA
URL:http://www.ksultrarunners.org/rkinfo.html
CATEGORIES:Ultramarathon
CONTACT:
CLASS:PUBLIC
PRIORITY:5
TRANSP:OPAQUE
END:VEVENT
END:VCALENDAR
