BEGIN:VCALENDAR
PRODID:-//http://statistik.d-u-v.org//PHP ultracalendar//EN
VERSION:2.0
METHOD:PUBLISH
BEGIN:VEVENT
DTSTAMP:20260424T211727
CREATED:20140325T180942
UID:1777065447.0.85599900-22130@statistik.d-u-v.org
SUMMARY:Lapper's Delight 12h Run
DESCRIPTION: Lapper's Delight 12h Run\n
  Bill Gibbs\n
  bill[at]ultimateracemanagement.com
DTSTART:20140308T090000
DTEND:00000000T235900
LOCATION:Pinnacle, NC\, USA
URL:http://www.lappersdelight.com/
CATEGORIES:Ultramarathon
CONTACT:Bill Gibbs
CLASS:PUBLIC
PRIORITY:5
TRANSP:OPAQUE
END:VEVENT
END:VCALENDAR
