BEGIN:VCALENDAR
PRODID:-//http://statistik.d-u-v.org//PHP ultracalendar//EN
VERSION:2.0
METHOD:PUBLISH
BEGIN:VEVENT
DTSTAMP:20260423T011118
CREATED:20140320T162910
UID:1776906678.0.08804400-22097@statistik.d-u-v.org
SUMMARY:Across the Years, 48h
DESCRIPTION: Across the Years, 48h\n
  \n
  rd[at]acrosstheyears.com
DTSTART:20141230T090000
DTEND:20150101T235900
LOCATION:Phoenix, AZ\, USA
URL:http://acrosstheyears.com/
CATEGORIES:Ultramarathon
CONTACT:
CLASS:PUBLIC
PRIORITY:5
TRANSP:OPAQUE
END:VEVENT
END:VCALENDAR
