BEGIN:VCALENDAR
PRODID:-//http://statistik.d-u-v.org//PHP ultracalendar//EN
VERSION:2.0
METHOD:PUBLISH
BEGIN:VEVENT
DTSTAMP:20260422T084451
CREATED:20140319T161236
UID:1776847491.0.25671200-22070@statistik.d-u-v.org
SUMMARY:Csillebérci 6 órás
DESCRIPTION: Csillebérci 6 órás\n
  \n
  
DTSTART:20140427T090000
DTEND:00000000T235900
LOCATION:Budapest, Csilleberc\, HUN
URL:http://www.terepfutas.hu/hu/versenyek/2014-versenyek/csilleberci-6-oras
CATEGORIES:Ultramarathon
CONTACT:
CLASS:PUBLIC
PRIORITY:5
TRANSP:OPAQUE
END:VEVENT
END:VCALENDAR
