BEGIN:VCALENDAR
PRODID:-//http://statistik.d-u-v.org//PHP ultracalendar//EN
VERSION:2.0
METHOD:PUBLISH
BEGIN:VEVENT
DTSTAMP:20260419T164734
CREATED:20140319T134112
UID:1776617254.0.65387900-22057@statistik.d-u-v.org
SUMMARY:BUS 6-Hour Run
DESCRIPTION: BUS 6-Hour Run\n
  Richie Innamorato\n
  rich1239[at]nyc.rr.com
DTSTART:20140330T084500
DTEND:00000000T235900
LOCATION:New York, NY\, USA
URL:http://www.newyorkultrarunning.org/2014_BUS6_NYUR3.htm
CATEGORIES:Ultramarathon
CONTACT:Richie Innamorato
CLASS:PUBLIC
PRIORITY:5
TRANSP:OPAQUE
END:VEVENT
END:VCALENDAR
