BEGIN:VCALENDAR
PRODID:-//http://statistik.d-u-v.org//PHP ultracalendar//EN
VERSION:2.0
METHOD:PUBLISH
BEGIN:VEVENT
DTSTAMP:20260423T041110
CREATED:20140502T051819
UID:1776917470.0.53040000-22047@statistik.d-u-v.org
SUMMARY:Corrida 24 Horas de Brasília
DESCRIPTION: Corrida 24 Horas de Brasília\n
  \n
  monclarovieiraeventos[at]gmail.com
DTSTART:20140719T090000
DTEND:20140720T090000
LOCATION:Brasilia (DF)\, BRA
URL:http://www.corrida24horasdebrasilia.com.br/
CATEGORIES:Ultramarathon
CONTACT:
CLASS:PUBLIC
PRIORITY:5
TRANSP:OPAQUE
END:VEVENT
END:VCALENDAR
