BEGIN:VCALENDAR
PRODID:-//http://statistik.d-u-v.org//PHP ultracalendar//EN
VERSION:2.0
METHOD:PUBLISH
BEGIN:VEVENT
DTSTAMP:20260423T020220
CREATED:20140203T162628
UID:1776909740.0.70792900-21774@statistik.d-u-v.org
SUMMARY:100 km Marathon West Attika
DESCRIPTION: 100 km Marathon West Attika\n
  \n
  
DTSTART:20020413T000000
DTEND:00000000T235900
LOCATION:West-Attika\, GRE
URL:
CATEGORIES:Ultramarathon
CONTACT:
CLASS:PUBLIC
PRIORITY:5
TRANSP:OPAQUE
END:VEVENT
END:VCALENDAR
