BEGIN:VCALENDAR
PRODID:-//http://statistik.d-u-v.org//PHP ultracalendar//EN
VERSION:2.0
METHOD:PUBLISH
BEGIN:VEVENT
DTSTAMP:20260423T024001
CREATED:20140201T190509
UID:1776912001.0.91179200-21762@statistik.d-u-v.org
SUMMARY:Sparnatrail
DESCRIPTION: Sparnatrail\n
  \n
  
DTSTART:20001112T000000
DTEND:00000000T235900
LOCATION:Epernay\, FRA
URL:http://joggingepernay.free.fr/article.php3?id_article=174
CATEGORIES:Ultramarathon
CONTACT:
CLASS:PUBLIC
PRIORITY:5
TRANSP:OPAQUE
END:VEVENT
END:VCALENDAR
