BEGIN:VCALENDAR
PRODID:-//http://statistik.d-u-v.org//PHP ultracalendar//EN
VERSION:2.0
METHOD:PUBLISH
BEGIN:VEVENT
DTSTAMP:20260423T022735
CREATED:20140130T160556
UID:1776911255.0.74020200-21759@statistik.d-u-v.org
SUMMARY:Orcas Island 50k
DESCRIPTION: Orcas Island 50k\n
  Race director James Varner\n
  james[at]rainshadowrunning.com
DTSTART:20140201T000000
DTEND:00000000T235900
LOCATION:Olga, WA\, USA
URL:http://orcas50k.blogspot.de/
CATEGORIES:Ultramarathon
CONTACT:Race director James Varner
CLASS:PUBLIC
PRIORITY:5
TRANSP:OPAQUE
END:VEVENT
END:VCALENDAR
