BEGIN:VCALENDAR
PRODID:-//http://statistik.d-u-v.org//PHP ultracalendar//EN
VERSION:2.0
METHOD:PUBLISH
BEGIN:VEVENT
DTSTAMP:20260424T175900
CREATED:20140128T184242
UID:1777053540.0.16090500-21734@statistik.d-u-v.org
SUMMARY:Les 100 km de Vendée
DESCRIPTION: Les 100 km de Vendée\n
  \n
  
DTSTART:20020511T000000
DTEND:00000000T235900
LOCATION:Chavagnes en Paillers\, FRA
URL:http://www.100kmdevendee.com/
CATEGORIES:Ultramarathon
CONTACT:
CLASS:PUBLIC
PRIORITY:5
TRANSP:OPAQUE
END:VEVENT
END:VCALENDAR
