BEGIN:VCALENDAR
PRODID:-//http://statistik.d-u-v.org//PHP ultracalendar//EN
VERSION:2.0
METHOD:PUBLISH
BEGIN:VEVENT
DTSTAMP:20260419T210234
CREATED:20140123T180146
UID:1776632554.0.71101900-21703@statistik.d-u-v.org
SUMMARY:Ultra Desafio 50 Milhas - 2ª Etapa Morungaba
DESCRIPTION: Ultra Desafio 50 Milhas - 2ª Etapa Morungaba\n
  Fernando Nogueira\n
  fernando[at]ultrarunnereventos.net
DTSTART:20141025T080000
DTEND:00000000T235900
LOCATION:Morungaba, SP\, BRA
URL:http://www.ultrarunnereventos.net/ultra50milhas/index50milhas.asp
CATEGORIES:Ultramarathon
CONTACT:Fernando Nogueira
CLASS:PUBLIC
PRIORITY:5
TRANSP:OPAQUE
END:VEVENT
END:VCALENDAR
