BEGIN:VCALENDAR
PRODID:-//http://statistik.d-u-v.org//PHP ultracalendar//EN
VERSION:2.0
METHOD:PUBLISH
BEGIN:VEVENT
DTSTAMP:20260419T220819
CREATED:20140114T171201
UID:1776636499.0.90070300-21588@statistik.d-u-v.org
SUMMARY:Les 48 heures de Royan
DESCRIPTION: Les 48 heures de Royan\n
  Daniel Fritzsch\n
  centkmcdb[at]yahoo.fr
DTSTART:20141003T100000
DTEND:20141005T100000
LOCATION:Royan\, FRA
URL:http://100km.iroyan.com
CATEGORIES:Ultramarathon
CONTACT:Daniel Fritzsch
CLASS:PUBLIC
PRIORITY:5
TRANSP:OPAQUE
END:VEVENT
END:VCALENDAR
