BEGIN:VCALENDAR
PRODID:-//http://statistik.d-u-v.org//PHP ultracalendar//EN
VERSION:2.0
METHOD:PUBLISH
BEGIN:VEVENT
DTSTAMP:20260424T143246
CREATED:20070818T000000
UID:1777041166.0.35445500-2158@statistik.d-u-v.org
SUMMARY:24 h Lauf Hamburg
DESCRIPTION: 24 h Lauf Hamburg\n
  \n
  
DTSTART:20000527T000001
DTEND:20000528T235900
LOCATION:Hamburg\, GER
URL:
CATEGORIES:Ultramarathon
CONTACT:
CLASS:PUBLIC
PRIORITY:5
TRANSP:OPAQUE
END:VEVENT
END:VCALENDAR
