BEGIN:VCALENDAR
PRODID:-//http://statistik.d-u-v.org//PHP ultracalendar//EN
VERSION:2.0
METHOD:PUBLISH
BEGIN:VEVENT
DTSTAMP:20260422T035945
CREATED:20140114T181645
UID:1776830385.0.52307500-21542@statistik.d-u-v.org
SUMMARY:Griffin 50 Miler
DESCRIPTION: Griffin 50 Miler\n
  Dave Gower\n
  entries[at]buffsclub.co.za
DTSTART:20140712T050000
DTEND:00000000T235900
LOCATION:Port Alfred\, RSA
URL:http://www.washie100.co.za
CATEGORIES:Ultramarathon
CONTACT:Dave Gower
CLASS:PUBLIC
PRIORITY:5
TRANSP:OPAQUE
END:VEVENT
END:VCALENDAR
