BEGIN:VCALENDAR
PRODID:-//http://statistik.d-u-v.org//PHP ultracalendar//EN
VERSION:2.0
METHOD:PUBLISH
BEGIN:VEVENT
DTSTAMP:20260423T031353
CREATED:20070818T000000
UID:1776914033.0.05141000-2151@statistik.d-u-v.org
SUMMARY:100 km Lauf Biel
DESCRIPTION: 100 km Lauf Biel\n
  \n
  
DTSTART:19990611T220000
DTEND:19990612T235900
LOCATION:Biel\, SUI
URL:
CATEGORIES:Ultramarathon
CONTACT:
CLASS:PUBLIC
PRIORITY:5
TRANSP:OPAQUE
END:VEVENT
END:VCALENDAR
