BEGIN:VCALENDAR
PRODID:-//http://statistik.d-u-v.org//PHP ultracalendar//EN
VERSION:2.0
METHOD:PUBLISH
BEGIN:VEVENT
DTSTAMP:20260419T192423
CREATED:20140107T160053
UID:1776626663.0.03577500-21489@statistik.d-u-v.org
SUMMARY:Grand Trail des Lacs et Châteaux - Trail des Doux Dingues 45 km
DESCRIPTION: Grand Trail des Lacs et Châteaux - Trail des Doux Dingues 45 km\n
  \n
  postmaster[at]ultratrail.be
DTSTART:20140517T080000
DTEND:00000000T235900
LOCATION:Malmedy\, BEL
URL:http://www.ultratrail.be
CATEGORIES:Ultramarathon
CONTACT:
CLASS:PUBLIC
PRIORITY:5
TRANSP:OPAQUE
END:VEVENT
END:VCALENDAR
