BEGIN:VCALENDAR
PRODID:-//http://statistik.d-u-v.org//PHP ultracalendar//EN
VERSION:2.0
METHOD:PUBLISH
BEGIN:VEVENT
DTSTAMP:20260423T003829
CREATED:20140104T162713
UID:1776904709.0.23798300-21438@statistik.d-u-v.org
SUMMARY:Festival of running 12 hour night Circuit Race
DESCRIPTION: Festival of running 12 hour night Circuit Race\n
  Eric Wright\n
  efwright[at]global.co.za
DTSTART:20140101T000000
DTEND:00000000T235900
LOCATION:Pretoria\, RSA
URL:http://www.circuitraces.co.za/
CATEGORIES:Ultramarathon
CONTACT:Eric Wright
CLASS:PUBLIC
PRIORITY:5
TRANSP:OPAQUE
END:VEVENT
END:VCALENDAR
