BEGIN:VCALENDAR
PRODID:-//http://statistik.d-u-v.org//PHP ultracalendar//EN
VERSION:2.0
METHOD:PUBLISH
BEGIN:VEVENT
DTSTAMP:20260419T164630
CREATED:20190906T095033
UID:1776617190.0.45755800-21333@statistik.d-u-v.org
SUMMARY:Resort to Rock 50K
DESCRIPTION: Resort to Rock 50K\n
  Holly Finch\n
  holly[at]pulserunning.com
DTSTART:20190817T000000
DTEND:00000000T235900
LOCATION:Boise, ID\, USA
URL:https://www.pulserunning.com/resort-to-rock-ultras
CATEGORIES:Ultramarathon
CONTACT:Holly Finch
CLASS:PUBLIC
PRIORITY:5
TRANSP:OPAQUE
END:VEVENT
END:VCALENDAR
