BEGIN:VCALENDAR
PRODID:-//http://statistik.d-u-v.org//PHP ultracalendar//EN
VERSION:2.0
METHOD:PUBLISH
BEGIN:VEVENT
DTSTAMP:20260423T043353
CREATED:20070818T000000
UID:1776918833.0.85078400-2128@statistik.d-u-v.org
SUMMARY:48-Stunden-Self-Transcendence-Lauf Köln
DESCRIPTION: 48-Stunden-Self-Transcendence-Lauf Köln\n
  \n
  
DTSTART:19970711T000000
DTEND:19970713T235900
LOCATION:Köln\, GER
URL:
CATEGORIES:Ultramarathon
CONTACT:
CLASS:PUBLIC
PRIORITY:5
TRANSP:OPAQUE
END:VEVENT
END:VCALENDAR
