BEGIN:VCALENDAR
PRODID:-//http://statistik.d-u-v.org//PHP ultracalendar//EN
VERSION:2.0
METHOD:PUBLISH
BEGIN:VEVENT
DTSTAMP:20260419T192103
CREATED:20131109T172744
UID:1776626463.0.30426000-21055@statistik.d-u-v.org
SUMMARY:Shadow of the Giants 50K
DESCRIPTION: Shadow of the Giants 50K\n
  \n
  
DTSTART:20090530T000000
DTEND:00000000T235900
LOCATION:Fish Camp, CA\, USA
URL:http://www.bigbaztrailraces.com/13/Shadow50K-1entryINFO.html
CATEGORIES:Ultramarathon
CONTACT:
CLASS:PUBLIC
PRIORITY:5
TRANSP:OPAQUE
END:VEVENT
END:VCALENDAR
