BEGIN:VCALENDAR
PRODID:-//http://statistik.d-u-v.org//PHP ultracalendar//EN
VERSION:2.0
METHOD:PUBLISH
BEGIN:VEVENT
DTSTAMP:20260423T080741
CREATED:20070818T000000
UID:1776931661.0.07105700-2105@statistik.d-u-v.org
SUMMARY:100 km Lauf Neuwittenbek
DESCRIPTION: 100 km Lauf Neuwittenbek\n
  \n
  
DTSTART:19940924T000000
DTEND:00000000T235900
LOCATION:Neuwittenbek\, GER
URL:
CATEGORIES:Ultramarathon
CONTACT:
CLASS:PUBLIC
PRIORITY:5
TRANSP:OPAQUE
END:VEVENT
END:VCALENDAR
