BEGIN:VCALENDAR
PRODID:-//http://statistik.d-u-v.org//PHP ultracalendar//EN
VERSION:2.0
METHOD:PUBLISH
BEGIN:VEVENT
DTSTAMP:20260423T014805
CREATED:20131125T222145
UID:1776908885.0.73356500-20835@statistik.d-u-v.org
SUMMARY:Ultramarathon Sovev-Emek (Around the Valley) 166 Km
DESCRIPTION: Ultramarathon Sovev-Emek (Around the Valley) 166 Km\n
  \n
  sovev-emek[at]sovev-emek.org
DTSTART:20131010T000000
DTEND:20131011T235900
LOCATION:Hazorea\, ISR
URL:http://www.sovev-emek.org/en/
CATEGORIES:Ultramarathon
CONTACT:
CLASS:PUBLIC
PRIORITY:5
TRANSP:OPAQUE
END:VEVENT
END:VCALENDAR
