BEGIN:VCALENDAR
PRODID:-//http://statistik.d-u-v.org//PHP ultracalendar//EN
VERSION:2.0
METHOD:PUBLISH
BEGIN:VEVENT
DTSTAMP:20260423T070129
CREATED:20131120T171831
UID:1776927689.0.24202300-20692@statistik.d-u-v.org
SUMMARY:San Francisco 50 Mile Endurance Run
DESCRIPTION: San Francisco 50 Mile Endurance Run\n
  \n
  
DTSTART:20140802T000000
DTEND:00000000T235900
LOCATION:San Francisco, CA\, USA
URL:http://www.coastaltrailruns.com/sf100.html
CATEGORIES:Ultramarathon
CONTACT:
CLASS:PUBLIC
PRIORITY:5
TRANSP:OPAQUE
END:VEVENT
END:VCALENDAR
