BEGIN:VCALENDAR
PRODID:-//http://statistik.d-u-v.org//PHP ultracalendar//EN
VERSION:2.0
METHOD:PUBLISH
BEGIN:VEVENT
DTSTAMP:20260420T121401
CREATED:20131120T171831
UID:1776687241.0.04520600-20683@statistik.d-u-v.org
SUMMARY:Sole Challenge 12 Hour Run
DESCRIPTION: Sole Challenge 12 Hour Run\n
  Race Director Rick Meyers\n
  
DTSTART:20130525T100000
DTEND:00000000T235900
LOCATION:Fayetteville, PA\, USA
URL:http://solechallenge24.com/
CATEGORIES:Ultramarathon
CONTACT:Race Director Rick Meyers
CLASS:PUBLIC
PRIORITY:5
TRANSP:OPAQUE
END:VEVENT
END:VCALENDAR
