BEGIN:VCALENDAR
PRODID:-//http://statistik.d-u-v.org//PHP ultracalendar//EN
VERSION:2.0
METHOD:PUBLISH
BEGIN:VEVENT
DTSTAMP:20260423T020649
CREATED:20131116T093349
UID:1776910009.0.21713100-20625@statistik.d-u-v.org
SUMMARY:Sri Chinmoy 24 Hour Races Sydney
DESCRIPTION: Sri Chinmoy 24 Hour Races Sydney\n
  Race Director: Niboddhri Ward\n
  sydney24h[at]srichinmoyraces.org
DTSTART:20130615T100000
DTEND:20130616T100000
LOCATION:Sydney, NSW\, AUS
URL:http://au.srichinmoyraces.org/events/24hour/
CATEGORIES:Ultramarathon
CONTACT:Race Director: Niboddhri Ward
CLASS:PUBLIC
PRIORITY:5
TRANSP:OPAQUE
END:VEVENT
END:VCALENDAR
