BEGIN:VCALENDAR
PRODID:-//http://statistik.d-u-v.org//PHP ultracalendar//EN
VERSION:2.0
METHOD:PUBLISH
BEGIN:VEVENT
DTSTAMP:20260419T210235
CREATED:20070818T000000
UID:1776632555.0.43594200-2057@statistik.d-u-v.org
SUMMARY:Sri Chinmoy Ultra Trio 1300 Mile Race - 1000km Split
DESCRIPTION: Sri Chinmoy Ultra Trio 1300 Mile Race - 1000km Split\n
  \n
  
DTSTART:19890919T000000
DTEND:19890927T235900
LOCATION:New York, NY\, USA
URL:http://us.srichinmoyraces.org/
CATEGORIES:Ultramarathon
CONTACT:
CLASS:PUBLIC
PRIORITY:5
TRANSP:OPAQUE
END:VEVENT
END:VCALENDAR
