BEGIN:VCALENDAR
PRODID:-//http://statistik.d-u-v.org//PHP ultracalendar//EN
VERSION:2.0
METHOD:PUBLISH
BEGIN:VEVENT
DTSTAMP:20260419T211003
CREATED:20131110T210936
UID:1776633003.0.81261500-20533@statistik.d-u-v.org
SUMMARY:Grand Raid Réunion - La Mascareignes
DESCRIPTION: Grand Raid Réunion - La Mascareignes\n
  \n
  info[at]grandraid-reunion.com
DTSTART:20141025T000000
DTEND:00000000T235900
LOCATION:Grand Ilet, La Reunion\, FRA
URL:http://www.grandraid-reunion.com/
CATEGORIES:Ultramarathon
CONTACT:
CLASS:PUBLIC
PRIORITY:5
TRANSP:OPAQUE
END:VEVENT
END:VCALENDAR
