BEGIN:VCALENDAR
PRODID:-//http://statistik.d-u-v.org//PHP ultracalendar//EN
VERSION:2.0
METHOD:PUBLISH
BEGIN:VEVENT
DTSTAMP:20260423T023940
CREATED:20070818T000000
UID:1776911980.0.09202900-2051@statistik.d-u-v.org
SUMMARY:Internat. Sri Chinmoy 24 Stundenlauf Frechen
DESCRIPTION: Internat. Sri Chinmoy 24 Stundenlauf Frechen\n
  \n
  
DTSTART:19880625T000000
DTEND:19880626T235900
LOCATION:Köln/Frechen\, GER
URL:
CATEGORIES:Ultramarathon
CONTACT:
CLASS:PUBLIC
PRIORITY:5
TRANSP:OPAQUE
END:VEVENT
END:VCALENDAR
