BEGIN:VCALENDAR
PRODID:-//http://statistik.d-u-v.org//PHP ultracalendar//EN
VERSION:2.0
METHOD:PUBLISH
BEGIN:VEVENT
DTSTAMP:20260419T185928
CREATED:20131107T112111
UID:1776625168.0.57419500-20455@statistik.d-u-v.org
SUMMARY:24-Stunden-Benefizlauf von Breitscheid
DESCRIPTION: 24-Stunden-Benefizlauf von Breitscheid\n
  \n
  24stunden[at]tus-breitscheid.de
DTSTART:20140627T180000
DTEND:20140628T180000
LOCATION:Ratingen\, GER
URL:http://www.tus-breitscheid.de/veran/24std/index.shtml
CATEGORIES:Ultramarathon
CONTACT:
CLASS:PUBLIC
PRIORITY:5
TRANSP:OPAQUE
END:VEVENT
END:VCALENDAR
