BEGIN:VCALENDAR
PRODID:-//http://statistik.d-u-v.org//PHP ultracalendar//EN
VERSION:2.0
METHOD:PUBLISH
BEGIN:VEVENT
DTSTAMP:20260423T043449
CREATED:20131107T205750
UID:1776918889.0.39966200-20445@statistik.d-u-v.org
SUMMARY:Salisbury 54321 Trails Race
DESCRIPTION: Salisbury 54321 Trails Race\n
  Ludwig Macaulay\n
  ludomacaulay[at]hotmail.com
DTSTART:20140810T090000
DTEND:20140810T180000
LOCATION:Salisbury\, GBR
URL:http://www.salisburyfirestation.info/
CATEGORIES:Ultramarathon
CONTACT:Ludwig Macaulay
CLASS:PUBLIC
PRIORITY:5
TRANSP:OPAQUE
END:VEVENT
END:VCALENDAR
