BEGIN:VCALENDAR
PRODID:-//http://statistik.d-u-v.org//PHP ultracalendar//EN
VERSION:2.0
METHOD:PUBLISH
BEGIN:VEVENT
DTSTAMP:20260424T231913
CREATED:20170502T214506
UID:1777072753.0.59370700-2041@statistik.d-u-v.org
SUMMARY:DUV-DM im 100 Km Bahnlauf, Ronneburg
DESCRIPTION: DUV-DM im 100 Km Bahnlauf, Ronneburg\n
  \n
  
DTSTART:19891028T000000
DTEND:00000000T235900
LOCATION:Ronneburg\, GER
URL:
CATEGORIES:Ultramarathon
CONTACT:
CLASS:PUBLIC
PRIORITY:5
TRANSP:OPAQUE
END:VEVENT
END:VCALENDAR
