BEGIN:VCALENDAR
PRODID:-//http://statistik.d-u-v.org//PHP ultracalendar//EN
VERSION:2.0
METHOD:PUBLISH
BEGIN:VEVENT
DTSTAMP:20260423T011105
CREATED:20131101T160943
UID:1776906665.0.61357400-20402@statistik.d-u-v.org
SUMMARY:Phnom Penh Thmey Ultra Marathon
DESCRIPTION: Phnom Penh Thmey Ultra Marathon\n
  Kao Vannarin\n
  info[at]runningincambodia.org
DTSTART:20140104T050000
DTEND:00000000T235900
LOCATION:Phnom Penh Thmey\, CAM
URL:http://www.runningincambodia.org/events/ultra-marathon/
CATEGORIES:Ultramarathon
CONTACT:Kao Vannarin
CLASS:PUBLIC
PRIORITY:5
TRANSP:OPAQUE
END:VEVENT
END:VCALENDAR
