BEGIN:VCALENDAR
PRODID:-//http://statistik.d-u-v.org//PHP ultracalendar//EN
VERSION:2.0
METHOD:PUBLISH
BEGIN:VEVENT
DTSTAMP:20260419T213421
CREATED:20131021T171203
UID:1776634461.0.83026500-19851@statistik.d-u-v.org
SUMMARY:North Fork 50 Mile Trail Race
DESCRIPTION: North Fork 50 Mile Trail Race\n
  Janice O'Grady\n
  northfork50[at]live.com
DTSTART:20140628T000000
DTEND:00000000T235900
LOCATION:Pine, CO\, USA
URL:http://www.northfork50.com/
CATEGORIES:Ultramarathon
CONTACT:Janice O'Grady
CLASS:PUBLIC
PRIORITY:5
TRANSP:OPAQUE
END:VEVENT
END:VCALENDAR
