BEGIN:VCALENDAR
PRODID:-//http://statistik.d-u-v.org//PHP ultracalendar//EN
VERSION:2.0
METHOD:PUBLISH
BEGIN:VEVENT
DTSTAMP:20260420T035204
CREATED:20131018T190830
UID:1776657124.0.33579200-19800@statistik.d-u-v.org
SUMMARY:Dolichos Race Delphi - Olympia
DESCRIPTION: Dolichos Race Delphi - Olympia\n
  \n
  efimalor[at]gmail.com
DTSTART:20140502T170000
DTEND:20140504T235900
LOCATION:Delphi\, GRE
URL:http://www.doliho.gr
CATEGORIES:Ultramarathon
CONTACT:
CLASS:PUBLIC
PRIORITY:5
TRANSP:OPAQUE
END:VEVENT
END:VCALENDAR
