BEGIN:VCALENDAR
PRODID:-//http://statistik.d-u-v.org//PHP ultracalendar//EN
VERSION:2.0
METHOD:PUBLISH
BEGIN:VEVENT
DTSTAMP:20260422T211845
CREATED:20131017T190648
UID:1776892725.0.05418800-19740@statistik.d-u-v.org
SUMMARY:Lange Laufnacht von Ulm 50 km (Start Blaustein)
DESCRIPTION: Lange Laufnacht von Ulm 50 km (Start Blaustein)\n
  \n
  info[at]ulmer-laufnacht.de
DTSTART:20140620T230000
DTEND:00000000T235900
LOCATION:Blaustein\, GER
URL:http://www.ulmer-laufnacht.de
CATEGORIES:Ultramarathon
CONTACT:
CLASS:PUBLIC
PRIORITY:5
TRANSP:OPAQUE
END:VEVENT
END:VCALENDAR
