BEGIN:VCALENDAR
PRODID:-//http://statistik.d-u-v.org//PHP ultracalendar//EN
VERSION:2.0
METHOD:PUBLISH
BEGIN:VEVENT
DTSTAMP:20260422T172126
CREATED:20080916T000000
UID:1776878486.0.02093700-1967@statistik.d-u-v.org
SUMMARY:Commonwealth Championships 24 hour race
DESCRIPTION: Commonwealth Championships 24 hour race\n
  \n
  
DTSTART:20090917T120000
DTEND:20090918T120000
LOCATION:Keswick, Cumbria\, GBR
URL:http://www.cumbriacommonwealthchampionships.org/index.htm
CATEGORIES:Ultramarathon
CONTACT:
CLASS:PUBLIC
PRIORITY:5
TRANSP:OPAQUE
END:VEVENT
END:VCALENDAR
